BEGIN:VCALENDAR
VERSION:2.0
PRODID:-//Muggleswick Parish Council - ECPv6.15.20//NONSGML v1.0//EN
CALSCALE:GREGORIAN
METHOD:PUBLISH
X-ORIGINAL-URL:https://muggleswickparish.org.uk
X-WR-CALDESC:Events for Muggleswick Parish Council
REFRESH-INTERVAL;VALUE=DURATION:PT1H
X-Robots-Tag:noindex
X-PUBLISHED-TTL:PT1H
BEGIN:VTIMEZONE
TZID:UTC
BEGIN:STANDARD
TZOFFSETFROM:+0000
TZOFFSETTO:+0000
TZNAME:UTC
DTSTART:20180101T000000
END:STANDARD
END:VTIMEZONE
BEGIN:VEVENT
DTSTART;TZID=UTC:20191116T100000
DTEND;TZID=UTC:20191116T120000
DTSTAMP:20260425T143032
CREATED:20191007T125727Z
LAST-MODIFIED:20191007T125743Z
UID:331-1573898400-1573905600@muggleswickparish.org.uk
SUMMARY:Christmas Coffee Morning
DESCRIPTION:Christmas Coffee Morning at Muggleswick Parish Hall on Saturday 16th November at 10am. \nRefreshments available. \nAll welcome.
URL:https://muggleswickparish.org.uk/event/331/
END:VEVENT
BEGIN:VEVENT
DTSTART;TZID=UTC:20191013T150000
DTEND;TZID=UTC:20191013T163000
DTSTAMP:20260425T143032
CREATED:20191007T124033Z
LAST-MODIFIED:20191007T124033Z
UID:324-1570978800-1570984200@muggleswickparish.org.uk
SUMMARY:Harvest Festival
DESCRIPTION:Saint Matthews Church\, Waskerley Harvest Festival will be held on Sunday 13th October at 3pm. \nRefreshments after the service.
URL:https://muggleswickparish.org.uk/event/harvest-festival/
LOCATION:St Matthew’s Church\, Waskerley
END:VEVENT
END:VCALENDAR